BEGIN:VCALENDAR
VERSION:2.0
PRODID:-//Swing in Warsaw//EN
CALSCALE:GREGORIAN
METHOD:PUBLISH
BEGIN:VEVENT
UID:bc356cf8-630d-48d7-acb9-4b74cef924ae@swinginwarsaw
DTSTAMP:20260421T073029Z
DTSTART:20260509T190000Z
SUMMARY:Potańc na Cyplu
LOCATION:Na Cyplu Restauracja — ulica Mariusza Zaruskiego 12\, 00-468 Śródmieście\, Polska
URL:https://www.facebook.com/events/1304895958200312/
END:VEVENT
END:VCALENDAR