BEGIN:VCALENDAR
VERSION:2.0
PRODID:-//Swing in Warsaw//EN
CALSCALE:GREGORIAN
METHOD:PUBLISH
BEGIN:VEVENT
UID:a8daaa21-48c8-4752-917f-881a1f3a040d@swinginwarsaw
DTSTAMP:20260422T115115Z
DTSTART:20260506T183000Z
DTEND:20260506T194500Z
SUMMARY:Practice Time!
LOCATION:Dom Kultury Rakowiec — ulica Adolfa Pawińskiego 19\, 02-106 Ochota\, Polska
URL:https://www.facebook.com/events/1459264395881429/
END:VEVENT
END:VCALENDAR