BEGIN:VCALENDAR
VERSION:2.0
PRODID:-//Swing in Warsaw//EN
CALSCALE:GREGORIAN
METHOD:PUBLISH
BEGIN:VEVENT
UID:4f10643f-0130-4ce1-99ae-ef45fec37e01@swinginwarsaw
DTSTAMP:20260422T115051Z
DTSTART:20260507T180000Z
DTEND:20260507T213000Z
SUMMARY:Czwartkowy Swing w Avangardzie
LOCATION:Restauracja Avangarda Warszawa — ulica Tadeusza Czackiego 3\, 00-043 Śródmieście\, Polska
URL:https://www.facebook.com/events/3951336664999694/
END:VEVENT
END:VCALENDAR